BEGIN:VCALENDAR
VERSION:2.0
PRODID:concerti//https://www.concerti.de
CALSCALE:GREGORIAN
BEGIN:VTIMEZONE
TZID:Europe/Berlin
X-LIC-LOCATION:Europe/Berlin
BEGIN:DAYLIGHT
TZOFFSETFROM:+0100
TZOFFSETTO:+0200
TZNAME:CEST
DTSTART:19700329T020000
RRULE:FREQ=YEARLY;BYMONTH=3;BYDAY=-1SU
END:DAYLIGHT
BEGIN:STANDARD
TZOFFSETFROM:+0200
TZOFFSETTO:+0100
TZNAME:CET
DTSTART:19701025T030000
RRULE:FREQ=YEARLY;BYMONTH=10;BYDAY=-1SU
END:STANDARD
END:VTIMEZONE
BEGIN:VEVENT
UID:131bed17a062ece9178d89b26f7638e0
SUMMARY:Marie Luise Werneburg (Sopran), Peter Davoren (Tenor), Alex Ashworth (Bass), The Constellation Choir &#038; Orchestra, John Eliot Gardiner (Leitung) - Bachfest Leipzig: Top 50 Bach Cantatas
URL:https://www.concerti.de/termine/marie-luise-werneburg-sopran-peter-davoren-tenor-alex-ashworth-bass-the-constellation-choir-orchestra-john-eliot-gardiner-leitung-894367/
DTSTART;TZID=Europe/Berlin:20260617T200000
DTEND;TZID=Europe/Berlin:20260617T220000
DESCRIPTION:Interpreten: Marie Luise Werneburg (Sopran)\, Peter Davoren (Tenor)\, Alex Ashworth (Bass)\, The Constellation Choir & Orchestra\, John Eliot Gardiner (Leitung) \nProgramm: Werke von J. S. Bach \nhttps://www.concerti.de/termine/marie-luise-werneburg-sopran-peter-davoren-tenor-alex-ashworth-bass-the-constellation-choir-orchestra-john-eliot-gardiner-leitung-894367/
LOCATION:Nikolaikirche\, Leipzig
END:VEVENT
END:VCALENDAR