BEGIN:VCALENDAR
VERSION:2.0
PRODID:concerti//https://www.concerti.de
CALSCALE:GREGORIAN
BEGIN:VTIMEZONE
TZID:Europe/Berlin
X-LIC-LOCATION:Europe/Berlin
BEGIN:DAYLIGHT
TZOFFSETFROM:+0100
TZOFFSETTO:+0200
TZNAME:CEST
DTSTART:19700329T020000
RRULE:FREQ=YEARLY;BYMONTH=3;BYDAY=-1SU
END:DAYLIGHT
BEGIN:STANDARD
TZOFFSETFROM:+0200
TZOFFSETTO:+0100
TZNAME:CET
DTSTART:19701025T030000
RRULE:FREQ=YEARLY;BYMONTH=10;BYDAY=-1SU
END:STANDARD
END:VTIMEZONE
BEGIN:VEVENT
UID:2914887ea36c9a1977cc17c3106655a5
SUMMARY:Erik Bosgraaf (Blockflöte), amarcord - Bachfest Leipzig
URL:https://www.concerti.de/termine/erik-bosgraaf-blockfloete-amarcord-894370/
DTSTART;TZID=Europe/Berlin:20260617T223000
DTEND;TZID=Europe/Berlin:20260618T003000
DESCRIPTION:Interpreten: Erik Bosgraaf (Blockflöte)\, amarcord \nProgramm: Franke: Bach Personae\, Mille regretz & Time/Death aus „Questions“\, J. S. Bach: O Haupt voll Blut und Wunden & Komm\, o Tod\, du Schlafes Bruder\, Machaut: Kyrie aus „Messe de Nostre Dame“ u. a. \nhttps://www.concerti.de/termine/erik-bosgraaf-blockfloete-amarcord-894370/
LOCATION:Evangelisch Reformierte Kirche\, Leipzig
END:VEVENT
END:VCALENDAR