BEGIN:VCALENDAR
VERSION:2.0
PRODID:concerti//https://www.concerti.de
CALSCALE:GREGORIAN
BEGIN:VTIMEZONE
TZID:Europe/Berlin
X-LIC-LOCATION:Europe/Berlin
BEGIN:DAYLIGHT
TZOFFSETFROM:+0100
TZOFFSETTO:+0200
TZNAME:CEST
DTSTART:19700329T020000
RRULE:FREQ=YEARLY;BYMONTH=3;BYDAY=-1SU
END:DAYLIGHT
BEGIN:STANDARD
TZOFFSETFROM:+0200
TZOFFSETTO:+0100
TZNAME:CET
DTSTART:19701025T030000
RRULE:FREQ=YEARLY;BYMONTH=10;BYDAY=-1SU
END:STANDARD
END:VTIMEZONE
BEGIN:VEVENT
UID:638fc87fbfa15b35c0acd5c3a9ec4049
SUMMARY:David Kiefer (Orgel) - Bachfest Leipzig
URL:https://www.concerti.de/termine/david-kiefer-orgel-894377/
DTSTART;TZID=Europe/Berlin:20260618T130000
DTEND;TZID=Europe/Berlin:20260618T150000
DESCRIPTION:Interpreten: David Kiefer (Orgel) \nProgramm: J. S. Bach: Präludium und Fuge a-Moll BWV 543.2\, Dies sind die heiligen zehen Gebot BWV 678 & Pièce d’Orgue G-Dur BWV 572.2\, Eben: Hommage à Buxtehude\, Eben: Moto ostinato-Finale aus Sonntagsmusik \nhttps://www.concerti.de/termine/david-kiefer-orgel-894377/
LOCATION:Evangelisch Reformierte Kirche\, Leipzig
END:VEVENT
END:VCALENDAR