BEGIN:VCALENDAR
VERSION:2.0
PRODID:concerti//https://www.concerti.de
CALSCALE:GREGORIAN
BEGIN:VTIMEZONE
TZID:Europe/Berlin
X-LIC-LOCATION:Europe/Berlin
BEGIN:DAYLIGHT
TZOFFSETFROM:+0100
TZOFFSETTO:+0200
TZNAME:CEST
DTSTART:19700329T020000
RRULE:FREQ=YEARLY;BYMONTH=3;BYDAY=-1SU
END:DAYLIGHT
BEGIN:STANDARD
TZOFFSETFROM:+0200
TZOFFSETTO:+0100
TZNAME:CET
DTSTART:19701025T030000
RRULE:FREQ=YEARLY;BYMONTH=10;BYDAY=-1SU
END:STANDARD
END:VTIMEZONE
BEGIN:VEVENT
UID:eb8e5d04bf54eea6f912d7f0afb0e6ed
SUMMARY:Voces Suaves, Akademie für Alte Musik Berlin, Georg Kallweit (Leitung) - Bachfest Leipzig
URL:https://www.concerti.de/termine/voces-suaves-akademie-fuer-alte-musik-berlin-georg-kallweit-leitung-peterskirche-894380/
DTSTART;TZID=Europe/Berlin:20260618T170000
DTEND;TZID=Europe/Berlin:20260618T190000
DESCRIPTION:Interpreten: Voces Suaves\, Akademie für Alte Musik Berlin\, Georg Kallweit (Leitung) \nProgramm: J. S. Bach: Aus der Tiefen rufe ich\, Herr\, zu dir BWV 131\, Keiser: Markus-Passion\, Buxtehude: Jesu\, meines Lebens Leben \nhttps://www.concerti.de/termine/voces-suaves-akademie-fuer-alte-musik-berlin-georg-kallweit-leitung-peterskirche-894380/
LOCATION:Peterskirche Leipzig\, Schletterstraße 5\, 04107 Leipzig
END:VEVENT
END:VCALENDAR