BEGIN:VCALENDAR
VERSION:2.0
PRODID:concerti//https://www.concerti.de
CALSCALE:GREGORIAN
BEGIN:VTIMEZONE
TZID:Europe/Berlin
X-LIC-LOCATION:Europe/Berlin
BEGIN:DAYLIGHT
TZOFFSETFROM:+0100
TZOFFSETTO:+0200
TZNAME:CEST
DTSTART:19700329T020000
RRULE:FREQ=YEARLY;BYMONTH=3;BYDAY=-1SU
END:DAYLIGHT
BEGIN:STANDARD
TZOFFSETFROM:+0200
TZOFFSETTO:+0100
TZNAME:CET
DTSTART:19701025T030000
RRULE:FREQ=YEARLY;BYMONTH=10;BYDAY=-1SU
END:STANDARD
END:VTIMEZONE
BEGIN:VEVENT
UID:7211a2d9b019e9928c6209dba1d4024d
SUMMARY:Mahan Esfahani (Cembalo) - Bachfest Leipzig
URL:https://www.concerti.de/termine/mahan-esfahani-cembalo-neues-bachisches-collegium-musicum-reinhard-goebel-leitung-731693/
DTSTART;TZID=Europe/Berlin:20260619T140000
DTEND;TZID=Europe/Berlin:20260619T160000
DESCRIPTION:Interpreten: Mahan Esfahani (Cembalo)\, Mahan Esfahani (Cembalo)\, Neues Bachisches Collegium Musicum\, Reinhard Goebel (Leitung) \nProgramm: J. S. Bach: Gigue aus „Partita e-Moll“ BWV 830.2\, Italienisches Konzert F-Dur BWV 971\, Ouvertüre h-Moll nach französischer Art BWV 831.2 & Goldberg-Variationen BWV 988 \nhttps://www.concerti.de/termine/mahan-esfahani-cembalo-neues-bachisches-collegium-musicum-reinhard-goebel-leitung-731693/
LOCATION:Paulinum – Aula und Universitätskirche St. Pauli\, Augustusplatz\, 04109 Leipzig
END:VEVENT
END:VCALENDAR