BEGIN:VCALENDAR
VERSION:2.0
PRODID:concerti//https://www.concerti.de
CALSCALE:GREGORIAN
BEGIN:VTIMEZONE
TZID:Europe/Berlin
X-LIC-LOCATION:Europe/Berlin
BEGIN:DAYLIGHT
TZOFFSETFROM:+0100
TZOFFSETTO:+0200
TZNAME:CEST
DTSTART:19700329T020000
RRULE:FREQ=YEARLY;BYMONTH=3;BYDAY=-1SU
END:DAYLIGHT
BEGIN:STANDARD
TZOFFSETFROM:+0200
TZOFFSETTO:+0100
TZNAME:CET
DTSTART:19701025T030000
RRULE:FREQ=YEARLY;BYMONTH=10;BYDAY=-1SU
END:STANDARD
END:VTIMEZONE
BEGIN:VEVENT
UID:bd671c9e161c123a5e00ada4d173f69c
SUMMARY:Carine Tinney (Sopran), David van Laar (Altus), Michael Mogl (Tenor), Sebastian Myrus (Bass), capella sollertia, Johanna Soller (Leitung) - Bachfest Leipzig
URL:https://www.concerti.de/termine/carine-tinney-sopran-david-van-laar-altus-michael-mogl-tenor-sebastian-myrus-bass-capella-sollertia-johanna-soller-leitung-894402/
DTSTART;TZID=Europe/Berlin:20260619T170000
DTEND;TZID=Europe/Berlin:20260619T190000
DESCRIPTION:Interpreten: Carine Tinney (Sopran)\, David van Laar (Altus)\, Michael Mogl (Tenor)\, Sebastian Myrus (Bass)\, capella sollertia\, Johanna Soller (Leitung) \nProgramm: J. S. Bach: Siehe\, ich will viel Fischer aussenden BWV 88\, J. L. Bach: Gott ist unser Zuversicht\, Darum will ich auch erwählen\, Ich will meinen Geist in euch geben & Siehe\, ich will viel Fischer aussenden \nhttps://www.concerti.de/termine/carine-tinney-sopran-david-van-laar-altus-michael-mogl-tenor-sebastian-myrus-bass-capella-sollertia-johanna-soller-leitung-894402/
LOCATION:Evangelisch Reformierte Kirche\, Leipzig
END:VEVENT
END:VCALENDAR