BEGIN:VCALENDAR
VERSION:2.0
PRODID:concerti//https://www.concerti.de
CALSCALE:GREGORIAN
BEGIN:VTIMEZONE
TZID:Europe/Berlin
X-LIC-LOCATION:Europe/Berlin
BEGIN:DAYLIGHT
TZOFFSETFROM:+0100
TZOFFSETTO:+0200
TZNAME:CEST
DTSTART:19700329T020000
RRULE:FREQ=YEARLY;BYMONTH=3;BYDAY=-1SU
END:DAYLIGHT
BEGIN:STANDARD
TZOFFSETFROM:+0200
TZOFFSETTO:+0100
TZNAME:CET
DTSTART:19701025T030000
RRULE:FREQ=YEARLY;BYMONTH=10;BYDAY=-1SU
END:STANDARD
END:VTIMEZONE
BEGIN:VEVENT
UID:ee57e68128f1f1ed835677203ce27ab3
SUMMARY:Carpentier: David et Jonathas (Szenische Aufführung) - Bachfest Leipzig
URL:https://www.concerti.de/termine/carpentier-david-et-jonathas-szenische-auffuehrung-894408/
DTSTART;TZID=Europe/Berlin:20260619T193000
DTEND;TZID=Europe/Berlin:20260619T213000
DESCRIPTION:Interpreten: Studierende der HMT Leipzig\, Stephan Rath (Leitung) \nhttps://www.concerti.de/termine/carpentier-david-et-jonathas-szenische-auffuehrung-894408/
LOCATION:Musikinstrumentenmuseum\, Leipzig
END:VEVENT
END:VCALENDAR