BEGIN:VCALENDAR
VERSION:2.0
PRODID:concerti//https://www.concerti.de
CALSCALE:GREGORIAN
BEGIN:VTIMEZONE
TZID:Europe/Berlin
X-LIC-LOCATION:Europe/Berlin
BEGIN:DAYLIGHT
TZOFFSETFROM:+0100
TZOFFSETTO:+0200
TZNAME:CEST
DTSTART:19700329T020000
RRULE:FREQ=YEARLY;BYMONTH=3;BYDAY=-1SU
END:DAYLIGHT
BEGIN:STANDARD
TZOFFSETFROM:+0200
TZOFFSETTO:+0100
TZNAME:CET
DTSTART:19701025T030000
RRULE:FREQ=YEARLY;BYMONTH=10;BYDAY=-1SU
END:STANDARD
END:VTIMEZONE
BEGIN:VEVENT
UID:ed4e4c5992436577c984f5aef888256a
SUMMARY:La Tempête, Simon-Pierre Bestion (Leitung) - Bachfest Leipzig
URL:https://www.concerti.de/termine/la-tempete-simon-pierre-bestion-leitung-894411/
DTSTART;TZID=Europe/Berlin:20260619T200000
DTEND;TZID=Europe/Berlin:20260619T220000
DESCRIPTION:Interpreten: La Tempête\, Simon-Pierre Bestion (Leitung) \nProgramm: Praetorius\, Buxtehude\, J. S. Bach & Brahms \nhttps://www.concerti.de/termine/la-tempete-simon-pierre-bestion-leitung-894411/
LOCATION:Nikolaikirche\, Leipzig
END:VEVENT
END:VCALENDAR