BEGIN:VCALENDAR
VERSION:2.0
PRODID:concerti//https://www.concerti.de
CALSCALE:GREGORIAN
BEGIN:VTIMEZONE
TZID:Europe/Berlin
X-LIC-LOCATION:Europe/Berlin
BEGIN:DAYLIGHT
TZOFFSETFROM:+0100
TZOFFSETTO:+0200
TZNAME:CEST
DTSTART:19700329T020000
RRULE:FREQ=YEARLY;BYMONTH=3;BYDAY=-1SU
END:DAYLIGHT
BEGIN:STANDARD
TZOFFSETFROM:+0200
TZOFFSETTO:+0100
TZNAME:CET
DTSTART:19701025T030000
RRULE:FREQ=YEARLY;BYMONTH=10;BYDAY=-1SU
END:STANDARD
END:VTIMEZONE
BEGIN:VEVENT
UID:d6a4157f013a68e4ab15a304702a4513
SUMMARY:Céleste Klingelschmitt (Violine) - Bachfest Leipzig
URL:https://www.concerti.de/termine/celeste-klingelschmitt-violine-894421/
DTSTART;TZID=Europe/Berlin:20260620T113000
DTEND;TZID=Europe/Berlin:20260620T133000
DESCRIPTION:Interpreten: Céleste Klingelschmitt (Violine) \nProgramm: J. S. Bach: Partiten h-Moll BWV 1002\, d-Moll BWV 1004\, Violinsonate a-Moll BWV 1003 u. a. \nhttps://www.concerti.de/termine/celeste-klingelschmitt-violine-894421/
LOCATION:Alte Börse\, Leipzig
END:VEVENT
END:VCALENDAR