BEGIN:VCALENDAR
VERSION:2.0
PRODID:concerti//https://www.concerti.de
CALSCALE:GREGORIAN
BEGIN:VTIMEZONE
TZID:Europe/Berlin
X-LIC-LOCATION:Europe/Berlin
BEGIN:DAYLIGHT
TZOFFSETFROM:+0100
TZOFFSETTO:+0200
TZNAME:CEST
DTSTART:19700329T020000
RRULE:FREQ=YEARLY;BYMONTH=3;BYDAY=-1SU
END:DAYLIGHT
BEGIN:STANDARD
TZOFFSETFROM:+0200
TZOFFSETTO:+0100
TZNAME:CET
DTSTART:19701025T030000
RRULE:FREQ=YEARLY;BYMONTH=10;BYDAY=-1SU
END:STANDARD
END:VTIMEZONE
BEGIN:VEVENT
UID:2780f54bed9a5b8b267b8ec9ae5f4e88
SUMMARY:Ivo Mrvelj (Orgel), The Madrigal Singers, Dor Magen (Leitung) - Bachfest Leipzig
URL:https://www.concerti.de/termine/ivo-mrvelj-orgel-the-madrigal-singers-dor-magen-leitung-thomaskirche-leipzig-894405/
DTSTART;TZID=Europe/Berlin:20260620T140000
DTEND;TZID=Europe/Berlin:20260620T160000
DESCRIPTION:Interpreten: Ivo Mrvelj (Orgel)\, The Madrigal Singers\, Dor Magen (Leitung)\, The Madrigal Singers\, Dor Magen (Leitung) \nProgramm: Schütz: Du Hirt Israel\, höre uns\, Rossi: Elohim hashivenu\, J. S. Bach: Ich lasse dich nicht BWV 1165\, Braun: Divrei Kohelet Ben David\, Levy-Tanai: Machmad levavi\, Aharoni: Ein Gedi \nhttps://www.concerti.de/termine/ivo-mrvelj-orgel-the-madrigal-singers-dor-magen-leitung-thomaskirche-leipzig-894405/
LOCATION:Ariowitsch-Haus\, Leipzig
END:VEVENT
END:VCALENDAR