BEGIN:VCALENDAR
VERSION:2.0
PRODID:concerti//https://www.concerti.de
CALSCALE:GREGORIAN
BEGIN:VTIMEZONE
TZID:Europe/Berlin
X-LIC-LOCATION:Europe/Berlin
BEGIN:DAYLIGHT
TZOFFSETFROM:+0100
TZOFFSETTO:+0200
TZNAME:CEST
DTSTART:19700329T020000
RRULE:FREQ=YEARLY;BYMONTH=3;BYDAY=-1SU
END:DAYLIGHT
BEGIN:STANDARD
TZOFFSETFROM:+0200
TZOFFSETTO:+0100
TZNAME:CET
DTSTART:19701025T030000
RRULE:FREQ=YEARLY;BYMONTH=10;BYDAY=-1SU
END:STANDARD
END:VTIMEZONE
BEGIN:VEVENT
UID:8f59a44201112e78df2b81db1988df93
SUMMARY:Hanna Zumsande (Sopran), Marie Luise Werneburg (Sopran), Terry Wey (Altus), Patrick Grahl (Tenor), Tobias Berndt (Bass), Coro Urubichá, Collegium Musicum ‘23, Mercedes Papu Aeguazu (Leitung), Nadja Zwiener (Leitung) - Bachfest Leipzig
URL:https://www.concerti.de/termine/hanna-zumsande-sopran-marie-luise-werneburg-sopran-terry-wey-altus-patrick-grahl-tenor-tobias-berndt-bass-coro-urubicha-collegium-musicum-23-mercedes-papu-aeguazu-leitung-894435/
DTSTART;TZID=Europe/Berlin:20260620T170000
DTEND;TZID=Europe/Berlin:20260620T190000
DESCRIPTION:Interpreten: Hanna Zumsande (Sopran)\, Marie Luise Werneburg (Sopran)\, Terry Wey (Altus)\, Patrick Grahl (Tenor)\, Tobias Berndt (Bass)\, Coro Urubichá\, Collegium Musicum ‘23\, Mercedes Papu Aeguazu (Leitung)\, Nadja Zwiener (Leitung) \nProgramm: Bassani: Missa encarnación\, Vivaldi: Gloria D-Dur RV 589\, J. S. Bach: Messe G-Dur BWV 236 \nhttps://www.concerti.de/termine/hanna-zumsande-sopran-marie-luise-werneburg-sopran-terry-wey-altus-patrick-grahl-tenor-tobias-berndt-bass-coro-urubicha-collegium-musicum-23-mercedes-papu-aeguazu-leitung-894435/
LOCATION:Peterskirche Leipzig\, Schletterstraße 5\, 04107 Leipzig
END:VEVENT
END:VCALENDAR