BEGIN:VCALENDAR
VERSION:2.0
PRODID:concerti//https://www.concerti.de
CALSCALE:GREGORIAN
BEGIN:VTIMEZONE
TZID:Europe/Berlin
X-LIC-LOCATION:Europe/Berlin
BEGIN:DAYLIGHT
TZOFFSETFROM:+0100
TZOFFSETTO:+0200
TZNAME:CEST
DTSTART:19700329T020000
RRULE:FREQ=YEARLY;BYMONTH=3;BYDAY=-1SU
END:DAYLIGHT
BEGIN:STANDARD
TZOFFSETFROM:+0200
TZOFFSETTO:+0100
TZNAME:CET
DTSTART:19701025T030000
RRULE:FREQ=YEARLY;BYMONTH=10;BYDAY=-1SU
END:STANDARD
END:VTIMEZONE
BEGIN:VEVENT
UID:6fb787d90b39a57c10b3e0b0a57d1a14
SUMMARY:Markus Kaufmann (Orgel) - Bachfest Leipzig
URL:https://www.concerti.de/termine/markus-kaufmann-orgel-894263/
DTSTART;TZID=Europe/Berlin:20260620T170000
DTEND;TZID=Europe/Berlin:20260620T190000
DESCRIPTION:Interpreten: Markus Kaufmann (Orgel) \nProgramm: Werke von J. S. Bach & Karg-Elert \nhttps://www.concerti.de/termine/markus-kaufmann-orgel-894263/
LOCATION:Nikolaikirche\, Leipzig
END:VEVENT
END:VCALENDAR