BEGIN:VCALENDAR
VERSION:2.0
PRODID:concerti//https://www.concerti.de
CALSCALE:GREGORIAN
BEGIN:VTIMEZONE
TZID:Europe/Berlin
X-LIC-LOCATION:Europe/Berlin
BEGIN:DAYLIGHT
TZOFFSETFROM:+0100
TZOFFSETTO:+0200
TZNAME:CEST
DTSTART:19700329T020000
RRULE:FREQ=YEARLY;BYMONTH=3;BYDAY=-1SU
END:DAYLIGHT
BEGIN:STANDARD
TZOFFSETFROM:+0200
TZOFFSETTO:+0100
TZNAME:CET
DTSTART:19701025T030000
RRULE:FREQ=YEARLY;BYMONTH=10;BYDAY=-1SU
END:STANDARD
END:VTIMEZONE
BEGIN:VEVENT
UID:24c7bed0bdf07f5eefb790e28cec0f93
SUMMARY:Emőke Baráth (Sopran), Il Pomo d’Oro, Francesco Corti (Leitung) - Bachfest Leipzig
URL:https://www.concerti.de/termine/emoke-barath-sopran-il-pomo-doro-francesco-corti-leitung-894445/
DTSTART;TZID=Europe/Berlin:20260620T200000
DTEND;TZID=Europe/Berlin:20260620T220000
DESCRIPTION:Interpreten: Emőke Baráth (Sopran)\, Il Pomo d’Oro\, Francesco Corti (Leitung) \nProgramm: Händel: Ouvertüre & Silete venti\, J. S. Bach: Mein Herze schwimmt im Blut BWV 199 & Ouvertüre C-Dur BWV 1066 \nhttps://www.concerti.de/termine/emoke-barath-sopran-il-pomo-doro-francesco-corti-leitung-894445/
LOCATION:Nikolaikirche\, Leipzig
END:VEVENT
END:VCALENDAR