BEGIN:VCALENDAR
VERSION:2.0
PRODID:concerti//https://www.concerti.de
CALSCALE:GREGORIAN
BEGIN:VTIMEZONE
TZID:Europe/Berlin
X-LIC-LOCATION:Europe/Berlin
BEGIN:DAYLIGHT
TZOFFSETFROM:+0100
TZOFFSETTO:+0200
TZNAME:CEST
DTSTART:19700329T020000
RRULE:FREQ=YEARLY;BYMONTH=3;BYDAY=-1SU
END:DAYLIGHT
BEGIN:STANDARD
TZOFFSETFROM:+0200
TZOFFSETTO:+0100
TZNAME:CET
DTSTART:19701025T030000
RRULE:FREQ=YEARLY;BYMONTH=10;BYDAY=-1SU
END:STANDARD
END:VTIMEZONE
BEGIN:VEVENT
UID:da95f816cbf584ecb99ae02e20090c99
SUMMARY:Albrecht Mayer (Oboe), Augsburger Philharmoniker, Domonkos Héja (Leitung)
URL:https://www.concerti.de/termine/albrecht-mayer-oboe-augsburger-philharmoniker-domonkos-heja-leitung-kongress-am-park-894544/
DTSTART;TZID=Europe/Berlin:20260714T193000
DTEND;TZID=Europe/Berlin:20260714T213000
DESCRIPTION:Interpreten: Albrecht Mayer (Oboe)\, Augsburger Philharmoniker\, Domonkos Héja (Leitung) \nProgramm: Brahms: Variationen über ein Thema von Haydn op. 56a\, Mozart/Odermatt: Oboenkonzert F-Dur KV 293\, Beethoven: Sinfonie Nr. 8 F-Dur op. 93 \nhttps://www.concerti.de/termine/albrecht-mayer-oboe-augsburger-philharmoniker-domonkos-heja-leitung-kongress-am-park-894544/
LOCATION:Kongress am Park Ausburg\, Gögginger Straße 10\, 86159 Augsburg
END:VEVENT
END:VCALENDAR