BEGIN:VCALENDAR
VERSION:2.0
PRODID:concerti//https://www.concerti.de
CALSCALE:GREGORIAN
BEGIN:VTIMEZONE
TZID:Europe/Berlin
X-LIC-LOCATION:Europe/Berlin
BEGIN:DAYLIGHT
TZOFFSETFROM:+0100
TZOFFSETTO:+0200
TZNAME:CEST
DTSTART:19700329T020000
RRULE:FREQ=YEARLY;BYMONTH=3;BYDAY=-1SU
END:DAYLIGHT
BEGIN:STANDARD
TZOFFSETFROM:+0200
TZOFFSETTO:+0100
TZNAME:CET
DTSTART:19701025T030000
RRULE:FREQ=YEARLY;BYMONTH=10;BYDAY=-1SU
END:STANDARD
END:VTIMEZONE
BEGIN:VEVENT
UID:266590672552d1775a91e1d1406fa986
SUMMARY:Rafael Sousa (Oboe), Emily Mücke (Violine), Andreas Schmalhofer (Violoncello), Szilvia Mikó (Cembalo)
URL:https://www.concerti.de/termine/rafael-sousa-oboe-emily-muecke-violine-andreas-schmalhofer-violoncello-szilvia-miko-cembalo-894548/
DTSTART;TZID=Europe/Berlin:20260719T183000
DTEND;TZID=Europe/Berlin:20260719T203000
DESCRIPTION:Interpreten: Rafael Sousa (Oboe)\, Emily Mücke (Violine)\, Andreas Schmalhofer (Violoncello)\, Szilvia Mikó (Cembalo) \nProgramm: J. S. Bach: Violinsonate Nr. 4\nc-Moll BWV 1017 & Matthäus-Passion BWV 244 (Auszug)\, Händel: Triosonate\nEs-Dur\, Zelenka: Triosonate Nr. 3 B-Dur \nhttps://www.concerti.de/termine/rafael-sousa-oboe-emily-muecke-violine-andreas-schmalhofer-violoncello-szilvia-miko-cembalo-894548/
LOCATION:Schaezlerpalais\, Augsburg
END:VEVENT
END:VCALENDAR