BEGIN:VCALENDAR
VERSION:2.0
PRODID:concerti//https://www.concerti.de
CALSCALE:GREGORIAN
BEGIN:VTIMEZONE
TZID:Europe/Berlin
X-LIC-LOCATION:Europe/Berlin
BEGIN:DAYLIGHT
TZOFFSETFROM:+0100
TZOFFSETTO:+0200
TZNAME:CEST
DTSTART:19700329T020000
RRULE:FREQ=YEARLY;BYMONTH=3;BYDAY=-1SU
END:DAYLIGHT
BEGIN:STANDARD
TZOFFSETFROM:+0200
TZOFFSETTO:+0100
TZNAME:CET
DTSTART:19701025T030000
RRULE:FREQ=YEARLY;BYMONTH=10;BYDAY=-1SU
END:STANDARD
END:VTIMEZONE
BEGIN:VEVENT
UID:d391727e088597fb7a7105f0220532de
SUMMARY:Simone Drescher (Violoncello), Amadeus Wiesensee (Klavier) - Nymphenburger Sommer
URL:https://www.concerti.de/termine/simone-drescher-violoncello-amadeus-wiesensee-klavier-residenz-muenchen-894560/
DTSTART;TZID=Europe/Berlin:20260616T193000
DTEND;TZID=Europe/Berlin:20260616T213000
DESCRIPTION:Interpreten: Simone Drescher (Violoncello)\, Amadeus Wiesensee (Klavier) \nProgramm: Werke von Martinů\, Vasks\, Bruch\, Mustonen\, Mompou u. a. \nhttps://www.concerti.de/termine/simone-drescher-violoncello-amadeus-wiesensee-klavier-residenz-muenchen-894560/
LOCATION:Residenz München\, Residenzstraße 1\, 80333 München
END:VEVENT
END:VCALENDAR