BEGIN:VCALENDAR
VERSION:2.0
PRODID:concerti//https://www.concerti.de
CALSCALE:GREGORIAN
BEGIN:VTIMEZONE
TZID:Europe/Berlin
X-LIC-LOCATION:Europe/Berlin
BEGIN:DAYLIGHT
TZOFFSETFROM:+0100
TZOFFSETTO:+0200
TZNAME:CEST
DTSTART:19700329T020000
RRULE:FREQ=YEARLY;BYMONTH=3;BYDAY=-1SU
END:DAYLIGHT
BEGIN:STANDARD
TZOFFSETFROM:+0200
TZOFFSETTO:+0100
TZNAME:CET
DTSTART:19701025T030000
RRULE:FREQ=YEARLY;BYMONTH=10;BYDAY=-1SU
END:STANDARD
END:VTIMEZONE
BEGIN:VEVENT
UID:94c5dc740e247f1b620858cd0f847e3e
SUMMARY:Fauré Quartett - Nymphenburger Sommer
URL:https://www.concerti.de/termine/faure-quartett-residenz-muenchen-894566/
DTSTART;TZID=Europe/Berlin:20260621T193000
DTEND;TZID=Europe/Berlin:20260621T213000
DESCRIPTION:Interpreten: Fauré Quartett \nProgramm: Fauré/Zöllner: Les Berceaux\, Notre Amour\, Après un Rêve & (Mandoline)\, Dvořák: Klavierquartett D-Dur op. 23\, Brahms: Klavierquartett A-Dur op. 26 \nhttps://www.concerti.de/termine/faure-quartett-residenz-muenchen-894566/
LOCATION:Residenz München\, Residenzstraße 1\, 80333 München
END:VEVENT
END:VCALENDAR