BEGIN:VCALENDAR
VERSION:2.0
PRODID:concerti//https://www.concerti.de
CALSCALE:GREGORIAN
BEGIN:VTIMEZONE
TZID:Europe/Berlin
X-LIC-LOCATION:Europe/Berlin
BEGIN:DAYLIGHT
TZOFFSETFROM:+0100
TZOFFSETTO:+0200
TZNAME:CEST
DTSTART:19700329T020000
RRULE:FREQ=YEARLY;BYMONTH=3;BYDAY=-1SU
END:DAYLIGHT
BEGIN:STANDARD
TZOFFSETFROM:+0200
TZOFFSETTO:+0100
TZNAME:CET
DTSTART:19701025T030000
RRULE:FREQ=YEARLY;BYMONTH=10;BYDAY=-1SU
END:STANDARD
END:VTIMEZONE
BEGIN:VEVENT
UID:e09625c103cd3acde02f750ab3e51f3b
SUMMARY:Viviane Hagner (Violine), Till Fellner (Klavier) - Nymphenburger Sommer
URL:https://www.concerti.de/termine/viviane-hagner-violine-till-fellner-klavier-residenz-muenchen-894569/
DTSTART;TZID=Europe/Berlin:20260623T193000
DTEND;TZID=Europe/Berlin:20260623T213000
DESCRIPTION:Interpreten: Viviane Hagner (Violine)\, Till Fellner (Klavier) \nProgramm: Beethoven: Violinsonate Es-Dur op. 12/3\, Schubert/Diabelli: Arpeggione-Sonate D 821\, Schubert: Violinsonatine g-Moll D 408\, Brahms: Violinsonate G-Dur op. 78 \nhttps://www.concerti.de/termine/viviane-hagner-violine-till-fellner-klavier-residenz-muenchen-894569/
LOCATION:Residenz München\, Residenzstraße 1\, 80333 München
END:VEVENT
END:VCALENDAR