BEGIN:VCALENDAR
VERSION:2.0
PRODID:concerti//https://www.concerti.de
CALSCALE:GREGORIAN
BEGIN:VTIMEZONE
TZID:Europe/Berlin
X-LIC-LOCATION:Europe/Berlin
BEGIN:DAYLIGHT
TZOFFSETFROM:+0100
TZOFFSETTO:+0200
TZNAME:CEST
DTSTART:19700329T020000
RRULE:FREQ=YEARLY;BYMONTH=3;BYDAY=-1SU
END:DAYLIGHT
BEGIN:STANDARD
TZOFFSETFROM:+0200
TZOFFSETTO:+0100
TZNAME:CET
DTSTART:19701025T030000
RRULE:FREQ=YEARLY;BYMONTH=10;BYDAY=-1SU
END:STANDARD
END:VTIMEZONE
BEGIN:VEVENT
UID:4892c73f3b02032addc592b46cb1beb5
SUMMARY:Ilya Shmukler (Klavier) - Nymphenburger Sommer
URL:https://www.concerti.de/termine/ilya-shmukler-klavier-residenz-muenchen-894572/
DTSTART;TZID=Europe/Berlin:20260626T193000
DTEND;TZID=Europe/Berlin:20260626T213000
DESCRIPTION:Interpreten: Ilya Shmukler (Klavier) \nProgramm: Beethoven: Klaviersonaten Fis-Dur op. 78\, cis-Moll op. 27/2 & E-Dur op. 109\, Adès: Drei Mazurken op. 27\, Chopin: Drei Mazurken op. 59 & Klaviersonate Nr. 3 h-Moll op. 58 \nhttps://www.concerti.de/termine/ilya-shmukler-klavier-residenz-muenchen-894572/
LOCATION:Residenz München\, Residenzstraße 1\, 80333 München
END:VEVENT
END:VCALENDAR