BEGIN:VCALENDAR
VERSION:2.0
PRODID:concerti//https://www.concerti.de
CALSCALE:GREGORIAN
BEGIN:VTIMEZONE
TZID:Europe/Berlin
X-LIC-LOCATION:Europe/Berlin
BEGIN:DAYLIGHT
TZOFFSETFROM:+0100
TZOFFSETTO:+0200
TZNAME:CEST
DTSTART:19700329T020000
RRULE:FREQ=YEARLY;BYMONTH=3;BYDAY=-1SU
END:DAYLIGHT
BEGIN:STANDARD
TZOFFSETFROM:+0200
TZOFFSETTO:+0100
TZNAME:CET
DTSTART:19701025T030000
RRULE:FREQ=YEARLY;BYMONTH=10;BYDAY=-1SU
END:STANDARD
END:VTIMEZONE
BEGIN:VEVENT
UID:7a21e051002a97f59434ae275eaccc3a
SUMMARY:Vokalensemble Amarcord - Richard-Strauss-Tage
URL:https://www.concerti.de/termine/vokalensemble-amarcord-894593/
DTSTART;TZID=Europe/Berlin:20260608T190000
DTEND;TZID=Europe/Berlin:20260608T210000
DESCRIPTION:Interpreten: Vokalensemble Amarcord \nProgramm: Werke von R. Strauss\, F. Strauss & Mahler \nhttps://www.concerti.de/termine/vokalensemble-amarcord-894593/
LOCATION:Kongresshaus\, Garmisch-Partenkirchen
END:VEVENT
END:VCALENDAR