BEGIN:VCALENDAR
VERSION:2.0
PRODID:concerti//https://www.concerti.de
CALSCALE:GREGORIAN
BEGIN:VTIMEZONE
TZID:Europe/Berlin
X-LIC-LOCATION:Europe/Berlin
BEGIN:DAYLIGHT
TZOFFSETFROM:+0100
TZOFFSETTO:+0200
TZNAME:CEST
DTSTART:19700329T020000
RRULE:FREQ=YEARLY;BYMONTH=3;BYDAY=-1SU
END:DAYLIGHT
BEGIN:STANDARD
TZOFFSETFROM:+0200
TZOFFSETTO:+0100
TZNAME:CET
DTSTART:19701025T030000
RRULE:FREQ=YEARLY;BYMONTH=10;BYDAY=-1SU
END:STANDARD
END:VTIMEZONE
BEGIN:VEVENT
UID:f755093a6afcb1e58a96d7289487e6ae
SUMMARY:WERTschätze - Familienkonzert
URL:https://www.concerti.de/termine/wertschaetze-deutsche-oper-894622/
DTSTART;TZID=Europe/Berlin:20260607T120000
DTEND;TZID=Europe/Berlin:20260607T140000
DESCRIPTION:Interpreten: Kinderclub & Generationenchor der Deutschen Oper Berlin\, Senta Aue (Leitung) \nProgramm: Werke von Telemann\, Gluck u. a. \nhttps://www.concerti.de/termine/wertschaetze-deutsche-oper-894622/
LOCATION:Deutsche Oper Berlin\, Bismarckstr. 35\, 10627 Berlin
END:VEVENT
END:VCALENDAR