BEGIN:VCALENDAR
VERSION:2.0
PRODID:concerti//https://www.concerti.de
CALSCALE:GREGORIAN
BEGIN:VTIMEZONE
TZID:Europe/Berlin
X-LIC-LOCATION:Europe/Berlin
BEGIN:DAYLIGHT
TZOFFSETFROM:+0100
TZOFFSETTO:+0200
TZNAME:CEST
DTSTART:19700329T020000
RRULE:FREQ=YEARLY;BYMONTH=3;BYDAY=-1SU
END:DAYLIGHT
BEGIN:STANDARD
TZOFFSETFROM:+0200
TZOFFSETTO:+0100
TZNAME:CET
DTSTART:19701025T030000
RRULE:FREQ=YEARLY;BYMONTH=10;BYDAY=-1SU
END:STANDARD
END:VTIMEZONE
BEGIN:VEVENT
UID:5d2fd34b2cd77f11b0ca043a60c36ffe
SUMMARY:Sonja Herranen (Sopran), Serafina Starke (Sopran), Sandra Laagus (Mezzosopran), Junho Hwang (Tenor), Irakli Pkhaladze (Bass), Jugendchor der Staatsoper Unter den Linden, Opernkinderorchester, Giuseppe Mentuccia (Leitung) - Familienkonzert
URL:https://www.concerti.de/termine/sonja-herranen-sopran-serafina-starke-sopran-sandra-laagus-mezzosopran-junho-hwang-tenor-irakli-pkhaladze-bass-jugendchor-der-staatsoper-unter-den-linden-opernkinderorchester-giuseppe-894639/
DTSTART;TZID=Europe/Berlin:20260606T113000
DTEND;TZID=Europe/Berlin:20260606T133000
DESCRIPTION:Interpreten: Sonja Herranen (Sopran)\, Serafina Starke (Sopran)\, Sandra Laagus (Mezzosopran)\, Junho Hwang (Tenor)\, Irakli Pkhaladze (Bass)\, Jugendchor der Staatsoper Unter den Linden\, Opernkinderorchester\, Giuseppe Mentuccia (Leitung) \nProgramm: Offenbach: Les Contes d’Hoffmann (Auzüge)\, Gounod: Ballettsuite aus „Faust“\, Massenet: Scènes hongroises (Auszüge) \nhttps://www.concerti.de/termine/sonja-herranen-sopran-serafina-starke-sopran-sandra-laagus-mezzosopran-junho-hwang-tenor-irakli-pkhaladze-bass-jugendchor-der-staatsoper-unter-den-linden-opernkinderorchester-giuseppe-894639/
LOCATION:Staatsoper Unter den Linden\, Unter den Linden 7\, 10117 Berlin
END:VEVENT
END:VCALENDAR