BEGIN:VCALENDAR
VERSION:2.0
PRODID:concerti//https://www.concerti.de
CALSCALE:GREGORIAN
BEGIN:VTIMEZONE
TZID:Europe/Berlin
X-LIC-LOCATION:Europe/Berlin
BEGIN:DAYLIGHT
TZOFFSETFROM:+0100
TZOFFSETTO:+0200
TZNAME:CEST
DTSTART:19700329T020000
RRULE:FREQ=YEARLY;BYMONTH=3;BYDAY=-1SU
END:DAYLIGHT
BEGIN:STANDARD
TZOFFSETFROM:+0200
TZOFFSETTO:+0100
TZNAME:CET
DTSTART:19701025T030000
RRULE:FREQ=YEARLY;BYMONTH=10;BYDAY=-1SU
END:STANDARD
END:VTIMEZONE
BEGIN:VEVENT
UID:b86b280623a8bb4eefc9716cda3fe635
SUMMARY:Tzu-You Lin (Suona), Wen-Sinn Yang (Violoncello), Yi-Chun Lai (Dizi), Taipei Chinese Orchestra, Li-Pin Cheng (Leitung)
URL:https://www.concerti.de/termine/tzu-you-lin-suona-wen-sinn-yang-violoncello-yi-chun-lai-dizi-taipei-chinese-orchestra-li-pin-cheng-leitung-gewandhaus-leipzig-894745/
DTSTART;TZID=Europe/Berlin:20260604T200000
DTEND;TZID=Europe/Berlin:20260604T220000
DESCRIPTION:Interpreten: Tzu-You Lin (Suona)\, Wen-Sinn Yang (Violoncello)\, Yi-Chun Lai (Dizi)\, Taipei Chinese Orchestra\, Li-Pin Cheng (Leitung) \nhttps://www.concerti.de/termine/tzu-you-lin-suona-wen-sinn-yang-violoncello-yi-chun-lai-dizi-taipei-chinese-orchestra-li-pin-cheng-leitung-gewandhaus-leipzig-894745/
LOCATION:Gewandhaus Leipzig\, Augustusplatz 8\, 04109 Leipzig
END:VEVENT
END:VCALENDAR