BEGIN:VCALENDAR
VERSION:2.0
PRODID:concerti//https://www.concerti.de
CALSCALE:GREGORIAN
BEGIN:VTIMEZONE
TZID:Europe/Berlin
X-LIC-LOCATION:Europe/Berlin
BEGIN:DAYLIGHT
TZOFFSETFROM:+0100
TZOFFSETTO:+0200
TZNAME:CEST
DTSTART:19700329T020000
RRULE:FREQ=YEARLY;BYMONTH=3;BYDAY=-1SU
END:DAYLIGHT
BEGIN:STANDARD
TZOFFSETFROM:+0200
TZOFFSETTO:+0100
TZNAME:CET
DTSTART:19701025T030000
RRULE:FREQ=YEARLY;BYMONTH=10;BYDAY=-1SU
END:STANDARD
END:VTIMEZONE
BEGIN:VEVENT
UID:2d2920a84e08baaa8eeffb85a00efc0c
SUMMARY:Hagen Biehler (Klarinette), Meininger Hofkapelle, Killian Farrell (Leitung)
URL:https://www.concerti.de/termine/hagen-biehler-klarinette-meininger-hofkapelle-killian-farrell-leitung-wartburg-894753/
DTSTART;TZID=Europe/Berlin:20260606T193000
DTEND;TZID=Europe/Berlin:20260606T213000
DESCRIPTION:Interpreten: Hagen Biehler (Klarinette)\, Meininger Hofkapelle\, Killian Farrell (Leitung) \nProgramm: Dvořák: Serenade E-Dur op. 22\, R. Strauss: Duett-Concertino F-Dur\,Mendelssohn: Streichersinfonie Nr. 10 h-Moll \nhttps://www.concerti.de/termine/hagen-biehler-klarinette-meininger-hofkapelle-killian-farrell-leitung-wartburg-894753/
LOCATION:Wartburg\, Auf der Wartburg\, 99817 Eisenach
END:VEVENT
END:VCALENDAR