BEGIN:VCALENDAR
VERSION:2.0
PRODID:concerti//https://www.concerti.de
CALSCALE:GREGORIAN
BEGIN:VTIMEZONE
TZID:Europe/Berlin
X-LIC-LOCATION:Europe/Berlin
BEGIN:DAYLIGHT
TZOFFSETFROM:+0100
TZOFFSETTO:+0200
TZNAME:CEST
DTSTART:19700329T020000
RRULE:FREQ=YEARLY;BYMONTH=3;BYDAY=-1SU
END:DAYLIGHT
BEGIN:STANDARD
TZOFFSETFROM:+0200
TZOFFSETTO:+0100
TZNAME:CET
DTSTART:19701025T030000
RRULE:FREQ=YEARLY;BYMONTH=10;BYDAY=-1SU
END:STANDARD
END:VTIMEZONE
BEGIN:VEVENT
UID:0113b16d779b1da24e9a45f2b2b24c01
SUMMARY:Benefizkonzert des Rotary Club Magdeburg
URL:https://www.concerti.de/termine/benefizkonzert-des-rotary-club-magdeburg-opernhaus-magdeburg-894830/
DTSTART;TZID=Europe/Berlin:20260616T190000
DTEND;TZID=Europe/Berlin:20260616T210000
DESCRIPTION:Interpreten: Jugendsinfonieorchester \nhttps://www.concerti.de/termine/benefizkonzert-des-rotary-club-magdeburg-opernhaus-magdeburg-894830/
LOCATION:Opernhaus Magdeburg\, Universitätsplatz 9\, 39104 Magdeburg
END:VEVENT
END:VCALENDAR