BEGIN:VCALENDAR
VERSION:2.0
PRODID:concerti//https://www.concerti.de
CALSCALE:GREGORIAN
BEGIN:VTIMEZONE
TZID:Europe/Berlin
X-LIC-LOCATION:Europe/Berlin
BEGIN:DAYLIGHT
TZOFFSETFROM:+0100
TZOFFSETTO:+0200
TZNAME:CEST
DTSTART:19700329T020000
RRULE:FREQ=YEARLY;BYMONTH=3;BYDAY=-1SU
END:DAYLIGHT
BEGIN:STANDARD
TZOFFSETFROM:+0200
TZOFFSETTO:+0100
TZNAME:CET
DTSTART:19701025T030000
RRULE:FREQ=YEARLY;BYMONTH=10;BYDAY=-1SU
END:STANDARD
END:VTIMEZONE
BEGIN:VEVENT
UID:cd7a248a5569830c12b3c6aee2c324ed
SUMMARY:Reiko Brockelt (Saxophon), Dominique Ehlert (Schlagzeug), Matthias Eichhorn (bass), David Timm (Keyboard), Arno Krokenberger (Orgel), Leipziger Universitätschor, Staatskapelle Halle, David Timm (Leitung)
URL:https://www.concerti.de/termine/reiko-brockelt-saxophon-dominique-ehlert-schlagzeug-matthias-eichhorn-bass-david-timm-keyboard-arno-krokenberger-orgel-leipziger-universitaetschor-staatskapelle-halle-david-timm-leit-894889/
DTSTART;TZID=Europe/Berlin:20260627T190000
DTEND;TZID=Europe/Berlin:20260627T210000
DESCRIPTION:Interpreten: Reiko Brockelt (Saxophon)\, Dominique Ehlert (Schlagzeug)\, Matthias Eichhorn (bass)\, David Timm (Keyboard)\, Arno Krokenberger (Orgel)\, Leipziger Universitätschor\, Staatskapelle Halle\, David Timm (Leitung) \nProgramm: Senker: Burst\, Reger: 100. Psalm op. 106\, Timm: Jazzmesse \nhttps://www.concerti.de/termine/reiko-brockelt-saxophon-dominique-ehlert-schlagzeug-matthias-eichhorn-bass-david-timm-keyboard-arno-krokenberger-orgel-leipziger-universitaetschor-staatskapelle-halle-david-timm-leit-894889/
LOCATION:Thomaskirche Leipzig\, Thomaskirchhof 18\, 04109 Leipzig
END:VEVENT
END:VCALENDAR