BEGIN:VCALENDAR
VERSION:2.0
PRODID:concerti//https://www.concerti.de
CALSCALE:GREGORIAN
BEGIN:VTIMEZONE
TZID:Europe/Berlin
X-LIC-LOCATION:Europe/Berlin
BEGIN:DAYLIGHT
TZOFFSETFROM:+0100
TZOFFSETTO:+0200
TZNAME:CEST
DTSTART:19700329T020000
RRULE:FREQ=YEARLY;BYMONTH=3;BYDAY=-1SU
END:DAYLIGHT
BEGIN:STANDARD
TZOFFSETFROM:+0200
TZOFFSETTO:+0100
TZNAME:CET
DTSTART:19701025T030000
RRULE:FREQ=YEARLY;BYMONTH=10;BYDAY=-1SU
END:STANDARD
END:VTIMEZONE
BEGIN:VEVENT
UID:94bd6c9e995098b4ddf7e250db37f53d
SUMMARY:Laurenzia Kampa (Sopran), Lena Herrmann (Alt), Theo Rohde (Tenor), Anton Haupt (Bass), Universitätschor Dresden, Junge Kammerphilharmonie Sachsen, Benedikt Kantert (Leitung)
URL:https://www.concerti.de/termine/laurenzia-kampa-sopran-lena-herrmann-alt-theo-rohde-tenor-anton-haupt-bass-universitaetschor-dresden-junge-kammerphilharmonie-sachsen-benedikt-kantert-leitung-gewandhaus-leipzig-894893/
DTSTART;TZID=Europe/Berlin:20260627T190000
DTEND;TZID=Europe/Berlin:20260627T210000
DESCRIPTION:Interpreten: Laurenzia Kampa (Sopran)\, Lena Herrmann (Alt)\, Theo Rohde (Tenor)\, Anton Haupt (Bass)\, Universitätschor Dresden\, Junge Kammerphilharmonie Sachsen\, Benedikt Kantert (Leitung) \nProgramm: Mendelssohn: Die erste Walpurgisnacht op. 60\, Rheinberger: Christoforus op. 120 \nhttps://www.concerti.de/termine/laurenzia-kampa-sopran-lena-herrmann-alt-theo-rohde-tenor-anton-haupt-bass-universitaetschor-dresden-junge-kammerphilharmonie-sachsen-benedikt-kantert-leitung-gewandhaus-leipzig-894893/
LOCATION:Gewandhaus Leipzig\, Augustusplatz 8\, 04109 Leipzig
END:VEVENT
END:VCALENDAR