BEGIN:VCALENDAR
VERSION:2.0
PRODID:concerti//https://www.concerti.de
CALSCALE:GREGORIAN
BEGIN:VTIMEZONE
TZID:Europe/Berlin
X-LIC-LOCATION:Europe/Berlin
BEGIN:DAYLIGHT
TZOFFSETFROM:+0100
TZOFFSETTO:+0200
TZNAME:CEST
DTSTART:19700329T020000
RRULE:FREQ=YEARLY;BYMONTH=3;BYDAY=-1SU
END:DAYLIGHT
BEGIN:STANDARD
TZOFFSETFROM:+0200
TZOFFSETTO:+0100
TZNAME:CET
DTSTART:19701025T030000
RRULE:FREQ=YEARLY;BYMONTH=10;BYDAY=-1SU
END:STANDARD
END:VTIMEZONE
BEGIN:VEVENT
UID:173f1d8493158404f8dcda0b1786117a
SUMMARY:Puccini: Gianni Schicchi (konzertant)
URL:https://www.concerti.de/termine/puccini-gianni-schicchi-konzertant-894896/
DTSTART;TZID=Europe/Berlin:20260628T110000
DTEND;TZID=Europe/Berlin:20260628T130000
DESCRIPTION:Interpreten: Mitglieder der Mendelssohn-Orchesterakademie\, Leonard Weiss (Leitung)\, Yiran Zhao (Leitung) \nProgramm: Françaix: Sérénade pour petit orchestre\, Dvořák: Quintett G-Dur op. 77 & Quartett Es-Dur op. 87\, Hindemith: Kammermusik Nr. I op. 24/1 \nhttps://www.concerti.de/termine/puccini-gianni-schicchi-konzertant-894896/
LOCATION:Hochschule für Musik und Theater\, Leipzig
END:VEVENT
END:VCALENDAR