BEGIN:VCALENDAR
VERSION:2.0
PRODID:concerti//https://www.concerti.de
CALSCALE:GREGORIAN
BEGIN:VTIMEZONE
TZID:Europe/Berlin
X-LIC-LOCATION:Europe/Berlin
BEGIN:DAYLIGHT
TZOFFSETFROM:+0100
TZOFFSETTO:+0200
TZNAME:CEST
DTSTART:19700329T020000
RRULE:FREQ=YEARLY;BYMONTH=3;BYDAY=-1SU
END:DAYLIGHT
BEGIN:STANDARD
TZOFFSETFROM:+0200
TZOFFSETTO:+0100
TZNAME:CET
DTSTART:19701025T030000
RRULE:FREQ=YEARLY;BYMONTH=10;BYDAY=-1SU
END:STANDARD
END:VTIMEZONE
BEGIN:VEVENT
UID:1425b2770a455acc1aba5b58e9935f75
SUMMARY:Der rollende Georg - Internationale Händel-Festspiele Göttingen
URL:https://www.concerti.de/termine/der-rollende-georg-894930/
DTSTART;TZID=Europe/Berlin:20260508T120000
DTEND;TZID=Europe/Berlin:20260508T140000
DESCRIPTION:Interpreten: Porter Percussion \nhttps://www.concerti.de/termine/der-rollende-georg-894930/
LOCATION:Marktstraße\, Duderstadt
END:VEVENT
END:VCALENDAR