BEGIN:VCALENDAR
VERSION:2.0
PRODID:concerti//https://www.concerti.de
CALSCALE:GREGORIAN
BEGIN:VTIMEZONE
TZID:Europe/Berlin
X-LIC-LOCATION:Europe/Berlin
BEGIN:DAYLIGHT
TZOFFSETFROM:+0100
TZOFFSETTO:+0200
TZNAME:CEST
DTSTART:19700329T020000
RRULE:FREQ=YEARLY;BYMONTH=3;BYDAY=-1SU
END:DAYLIGHT
BEGIN:STANDARD
TZOFFSETFROM:+0200
TZOFFSETTO:+0100
TZNAME:CET
DTSTART:19701025T030000
RRULE:FREQ=YEARLY;BYMONTH=10;BYDAY=-1SU
END:STANDARD
END:VTIMEZONE
BEGIN:VEVENT
UID:c7b76888895da894252748e528379536
SUMMARY:Göttingen Händel Competition – Vorrunde - Internationale Händel-Festspiele Göttingen
URL:https://www.concerti.de/termine/goettingen-haendel-competition-vorrunde-georg-august-universitaet-goettingen-894969/
DTSTART;TZID=Europe/Berlin:20260518T100000
DTEND;TZID=Europe/Berlin:20260518T120000
DESCRIPTION:Interpreten: ensemble_forá\, Duo Lucescuro\, Simileo Alpin\, Barque Ensemble\, Red Shoes Project\, Quarterino Ensemble\, Les Arcanes Baroques\, Furore Ensemble \nProgramm: Werke von Händel u. a. \nhttps://www.concerti.de/termine/goettingen-haendel-competition-vorrunde-georg-august-universitaet-goettingen-894969/
LOCATION:Georg-August-Universität Göttingen\, Wilhelmsplatz 1\, 37073 Göttingen
END:VEVENT
END:VCALENDAR