BEGIN:VCALENDAR
VERSION:2.0
PRODID:concerti//https://www.concerti.de
CALSCALE:GREGORIAN
BEGIN:VTIMEZONE
TZID:Europe/Berlin
X-LIC-LOCATION:Europe/Berlin
BEGIN:DAYLIGHT
TZOFFSETFROM:+0100
TZOFFSETTO:+0200
TZNAME:CEST
DTSTART:19700329T020000
RRULE:FREQ=YEARLY;BYMONTH=3;BYDAY=-1SU
END:DAYLIGHT
BEGIN:STANDARD
TZOFFSETFROM:+0200
TZOFFSETTO:+0100
TZNAME:CET
DTSTART:19701025T030000
RRULE:FREQ=YEARLY;BYMONTH=10;BYDAY=-1SU
END:STANDARD
END:VTIMEZONE
BEGIN:VEVENT
UID:d11ae40bf0860adbb9d3b5dcb78fea6d
SUMMARY:Heli Siekkinen (Akkordeon), Andrea Strube (Lesung) - Internationale Händel-Festspiele Göttingen: Lesung, Wein & Musik, Lunchkonzert
URL:https://www.concerti.de/termine/heli-siekkinen-akkordeon-andrea-strube-lesung-894977/
DTSTART;TZID=Europe/Berlin:20260518T180000
DTEND;TZID=Europe/Berlin:20260518T200000
DESCRIPTION:Interpreten: Heli Siekkinen (Akkordeon)\, Andrea Strube (Lesung)\, Heli Siekkinen (Akkordeon) \nProgramm: Werke von Händel u. a. \nhttps://www.concerti.de/termine/heli-siekkinen-akkordeon-andrea-strube-lesung-894977/
LOCATION:Bremers Weinkellerei am Wall\, Göttingen
END:VEVENT
END:VCALENDAR