BEGIN:VCALENDAR
VERSION:2.0
PRODID:concerti//https://www.concerti.de
CALSCALE:GREGORIAN
BEGIN:VTIMEZONE
TZID:Europe/Berlin
X-LIC-LOCATION:Europe/Berlin
BEGIN:DAYLIGHT
TZOFFSETFROM:+0100
TZOFFSETTO:+0200
TZNAME:CEST
DTSTART:19700329T020000
RRULE:FREQ=YEARLY;BYMONTH=3;BYDAY=-1SU
END:DAYLIGHT
BEGIN:STANDARD
TZOFFSETFROM:+0200
TZOFFSETTO:+0100
TZNAME:CET
DTSTART:19701025T030000
RRULE:FREQ=YEARLY;BYMONTH=10;BYDAY=-1SU
END:STANDARD
END:VTIMEZONE
BEGIN:VEVENT
UID:e668d42f6c7d8dd6b93ee761af661349
SUMMARY:Il Sassone - Internationale Händel-Festspiele Göttingen
URL:https://www.concerti.de/termine/il-sassone-894980/
DTSTART;TZID=Europe/Berlin:20260519T193000
DTEND;TZID=Europe/Berlin:20260519T213000
DESCRIPTION:Interpreten: False Consonance \nProgramm: Werke von Händel \nhttps://www.concerti.de/termine/il-sassone-894980/
LOCATION:PS.SPEICHER\, Einbeck
END:VEVENT
END:VCALENDAR