BEGIN:VCALENDAR
VERSION:2.0
PRODID:concerti//https://www.concerti.de
CALSCALE:GREGORIAN
BEGIN:VTIMEZONE
TZID:Europe/Berlin
X-LIC-LOCATION:Europe/Berlin
BEGIN:DAYLIGHT
TZOFFSETFROM:+0100
TZOFFSETTO:+0200
TZNAME:CEST
DTSTART:19700329T020000
RRULE:FREQ=YEARLY;BYMONTH=3;BYDAY=-1SU
END:DAYLIGHT
BEGIN:STANDARD
TZOFFSETFROM:+0200
TZOFFSETTO:+0100
TZNAME:CET
DTSTART:19701025T030000
RRULE:FREQ=YEARLY;BYMONTH=10;BYDAY=-1SU
END:STANDARD
END:VTIMEZONE
BEGIN:VEVENT
UID:6566ed9dbf6e039c9a88b498f8e05d88
SUMMARY:Preisträgerensemble des Publikumspreises bei der Göttingen Händel Competition 2026 - Internationale Händel-Festspiele Göttingen: Lunchkonzert
URL:https://www.concerti.de/termine/preistraegerensemble-des-publikumspreises-bei-der-goettingen-haendel-competition-2026-894990/
DTSTART;TZID=Europe/Berlin:20260520T123000
DTEND;TZID=Europe/Berlin:20260520T143000
DESCRIPTION:Interpreten: Preisträgerensemble des Publikumspreises bei der Göttingen Händel Competition 2026 \nProgramm: Werke von Händel u. a. \nhttps://www.concerti.de/termine/preistraegerensemble-des-publikumspreises-bei-der-goettingen-haendel-competition-2026-894990/
LOCATION:St. Johannis-Kirche\, Göttingen
END:VEVENT
END:VCALENDAR