BEGIN:VCALENDAR
VERSION:2.0
PRODID:concerti//https://www.concerti.de
CALSCALE:GREGORIAN
BEGIN:VTIMEZONE
TZID:Europe/Berlin
X-LIC-LOCATION:Europe/Berlin
BEGIN:DAYLIGHT
TZOFFSETFROM:+0100
TZOFFSETTO:+0200
TZNAME:CEST
DTSTART:19700329T020000
RRULE:FREQ=YEARLY;BYMONTH=3;BYDAY=-1SU
END:DAYLIGHT
BEGIN:STANDARD
TZOFFSETFROM:+0200
TZOFFSETTO:+0100
TZNAME:CET
DTSTART:19701025T030000
RRULE:FREQ=YEARLY;BYMONTH=10;BYDAY=-1SU
END:STANDARD
END:VTIMEZONE
BEGIN:VEVENT
UID:b50d3d6562013b07f2d2cc34c7818188
SUMMARY:Lucas Biegel (Blockflöte), Yara-Ensemble - Internationale Händel-Festspiele Göttingen
URL:https://www.concerti.de/termine/lucas-biegel-blockfloete-yara-ensemble-894993/
DTSTART;TZID=Europe/Berlin:20260520T203000
DTEND;TZID=Europe/Berlin:20260520T223000
DESCRIPTION:Interpreten: Lucas Biegel (Blockflöte)\, Yara-Ensemble \nProgramm: Händel: Sonate op. 2 Nr. 2 g-Moll HWV 387\, Flammende Rose\, Zierde der Erden A-Dur HWV 210\, Sonate Nr. 2 D-Dur HWV 397 & Süßer Blumen Ambraflocken g-Moll HWV 204\, Oswald: The Snow Drop g-Moll & The Lilly g-Moll\, Telemann: Trietto Nr. 3 d-Moll TWV 42:d1 & Quartett g-Moll TWV 43:g4 \nhttps://www.concerti.de/termine/lucas-biegel-blockfloete-yara-ensemble-894993/
LOCATION:Reformierte Kirche\, Göttingen
END:VEVENT
END:VCALENDAR