BEGIN:VCALENDAR
VERSION:2.0
PRODID:concerti//https://www.concerti.de
CALSCALE:GREGORIAN
BEGIN:VTIMEZONE
TZID:Europe/Berlin
X-LIC-LOCATION:Europe/Berlin
BEGIN:DAYLIGHT
TZOFFSETFROM:+0100
TZOFFSETTO:+0200
TZNAME:CEST
DTSTART:19700329T020000
RRULE:FREQ=YEARLY;BYMONTH=3;BYDAY=-1SU
END:DAYLIGHT
BEGIN:STANDARD
TZOFFSETFROM:+0200
TZOFFSETTO:+0100
TZNAME:CET
DTSTART:19701025T030000
RRULE:FREQ=YEARLY;BYMONTH=10;BYDAY=-1SU
END:STANDARD
END:VTIMEZONE
BEGIN:VEVENT
UID:271597de795c0bb33097b00f2766b3a8
SUMMARY:Preisträgerkonzert - Internationale Händel-Festspiele Göttingen
URL:https://www.concerti.de/termine/preistraegerkonzert-894997/
DTSTART;TZID=Europe/Berlin:20260520T190000
DTEND;TZID=Europe/Berlin:20260520T210000
DESCRIPTION:Interpreten: Preisträgerensemble des Publikumspreises bei der Göttingen Händel Competition 2026 \nProgramm: Werke von Händel u. a. \nhttps://www.concerti.de/termine/preistraegerkonzert-894997/
LOCATION:St.-Petri-Kirche\, Landolfshausen
END:VEVENT
END:VCALENDAR