BEGIN:VCALENDAR
VERSION:2.0
PRODID:concerti//https://www.concerti.de
CALSCALE:GREGORIAN
BEGIN:VTIMEZONE
TZID:Europe/Berlin
X-LIC-LOCATION:Europe/Berlin
BEGIN:DAYLIGHT
TZOFFSETFROM:+0100
TZOFFSETTO:+0200
TZNAME:CEST
DTSTART:19700329T020000
RRULE:FREQ=YEARLY;BYMONTH=3;BYDAY=-1SU
END:DAYLIGHT
BEGIN:STANDARD
TZOFFSETFROM:+0200
TZOFFSETTO:+0100
TZNAME:CET
DTSTART:19701025T030000
RRULE:FREQ=YEARLY;BYMONTH=10;BYDAY=-1SU
END:STANDARD
END:VTIMEZONE
BEGIN:VEVENT
UID:1294e9411386107827734050dd30e320
SUMMARY:To Melt a Stony Heart - Internationale Händel-Festspiele Göttingen
URL:https://www.concerti.de/termine/to-melt-a-stony-heart-georg-august-universitaet-goettingen-895031/
DTSTART;TZID=Europe/Berlin:20260524T110000
DTEND;TZID=Europe/Berlin:20260524T130000
DESCRIPTION:Interpreten: Rachel Brown (Flöte & Blockflöte)\, Laurence Cummings (Cembalo & Gesang) \nProgramm: Werke von Brown\, Couperin\, Hotteterre\, Lully\, J. S. Bach\, Händel\, Hasse\, Gluck u. a. \nhttps://www.concerti.de/termine/to-melt-a-stony-heart-georg-august-universitaet-goettingen-895031/
LOCATION:Georg-August-Universität Göttingen\, Wilhelmsplatz 1\, 37073 Göttingen
END:VEVENT
END:VCALENDAR