BEGIN:VCALENDAR
VERSION:2.0
PRODID:concerti//https://www.concerti.de
CALSCALE:GREGORIAN
BEGIN:VTIMEZONE
TZID:Europe/Berlin
X-LIC-LOCATION:Europe/Berlin
BEGIN:DAYLIGHT
TZOFFSETFROM:+0100
TZOFFSETTO:+0200
TZNAME:CEST
DTSTART:19700329T020000
RRULE:FREQ=YEARLY;BYMONTH=3;BYDAY=-1SU
END:DAYLIGHT
BEGIN:STANDARD
TZOFFSETFROM:+0200
TZOFFSETTO:+0100
TZNAME:CET
DTSTART:19701025T030000
RRULE:FREQ=YEARLY;BYMONTH=10;BYDAY=-1SU
END:STANDARD
END:VTIMEZONE
BEGIN:VEVENT
UID:a52d51b10a2c0519e631414e6e561b14
SUMMARY:Seeds of Sorrow - Internationale Händel-Festspiele Göttingen
URL:https://www.concerti.de/termine/seeds-of-sorrow-895039/
DTSTART;TZID=Europe/Berlin:20260525T170000
DTEND;TZID=Europe/Berlin:20260525T190000
DESCRIPTION:Interpreten: Tempera Mente \nProgramm: Werke von Hammerschmidt\, Zachow\, Vierdanck\, Pohle & Händel \nhttps://www.concerti.de/termine/seeds-of-sorrow-895039/
LOCATION:St. Norbert-Kirche\, Friedland
END:VEVENT
END:VCALENDAR