BEGIN:VCALENDAR
VERSION:2.0
PRODID:concerti//https://www.concerti.de
CALSCALE:GREGORIAN
BEGIN:VTIMEZONE
TZID:Europe/Berlin
X-LIC-LOCATION:Europe/Berlin
BEGIN:DAYLIGHT
TZOFFSETFROM:+0100
TZOFFSETTO:+0200
TZNAME:CEST
DTSTART:19700329T020000
RRULE:FREQ=YEARLY;BYMONTH=3;BYDAY=-1SU
END:DAYLIGHT
BEGIN:STANDARD
TZOFFSETFROM:+0200
TZOFFSETTO:+0100
TZNAME:CET
DTSTART:19701025T030000
RRULE:FREQ=YEARLY;BYMONTH=10;BYDAY=-1SU
END:STANDARD
END:VTIMEZONE
BEGIN:VEVENT
UID:8647c1e2bee6e0b1145cab43e13c55f3
SUMMARY:Händel: Deidamia HWV 42 – Familienfassung - Internationale Händel-Festspiele Göttingen: Familienkonzert
URL:https://www.concerti.de/termine/haendel-deidamia-hwv-42-familienfassung-deutsches-theater-goettingen-895045/
DTSTART;TZID=Europe/Berlin:20260525T120000
DTEND;TZID=Europe/Berlin:20260525T140000
DESCRIPTION:Interpreten: Solisten der Festspieloper FestspielOrchester Göttingen\, George Petrou (Leitung)\, Kammerchor der Universität Göttingen\, Juri Tetzlaff (Moderation)\, Constantina Psoma (Regie) \nhttps://www.concerti.de/termine/haendel-deidamia-hwv-42-familienfassung-deutsches-theater-goettingen-895045/
LOCATION:Deutsches Theater Göttingen\, Theaterplatz 11\, 37073 Göttingen
END:VEVENT
END:VCALENDAR