BEGIN:VCALENDAR
VERSION:2.0
PRODID:concerti//https://www.concerti.de
CALSCALE:GREGORIAN
BEGIN:VTIMEZONE
TZID:Europe/Berlin
X-LIC-LOCATION:Europe/Berlin
BEGIN:DAYLIGHT
TZOFFSETFROM:+0100
TZOFFSETTO:+0200
TZNAME:CEST
DTSTART:19700329T020000
RRULE:FREQ=YEARLY;BYMONTH=3;BYDAY=-1SU
END:DAYLIGHT
BEGIN:STANDARD
TZOFFSETFROM:+0200
TZOFFSETTO:+0100
TZNAME:CET
DTSTART:19701025T030000
RRULE:FREQ=YEARLY;BYMONTH=10;BYDAY=-1SU
END:STANDARD
END:VTIMEZONE
BEGIN:VEVENT
UID:c7a64b62283ef61cba10bfd54b633ee9
SUMMARY:tanzwärts! Stadt.Land.Oker
URL:https://www.concerti.de/termine/tanzwaerts-stadt-land-oker-staatstheater-braunschweig-895050/
DTSTART;TZID=Europe/Berlin:20260605T190000
DTEND;TZID=Europe/Berlin:20260605T210000
DESCRIPTION:Interpreten: Filipa Amorim (Choreografie)\, Michael D\' Ambrosio (Choreografie)\, Francesca Castellari (Choreografie)\, Noriko Nishidate (Choreografie)\, Dariusz Nowak (Choreografie)\, Rei Okunishi (Choreografie)\, Lucas Roque Machado (Choreografie)\, Tiziano Pilloni (Choreografie)\, Mátyás Ruzsom (Choreografie)\, Razul Singh Gautam (Choreografie)\, Nao Tokuhashi (Choreografie)\, Joshua Haines (Choreografie) \nhttps://www.concerti.de/termine/tanzwaerts-stadt-land-oker-staatstheater-braunschweig-895050/
LOCATION:Staatstheater Braunschweig\, Am Theater\, 38100 Braunschweig
END:VEVENT
END:VCALENDAR