BEGIN:VCALENDAR
VERSION:2.0
PRODID:concerti//https://www.concerti.de
CALSCALE:GREGORIAN
BEGIN:VTIMEZONE
TZID:Europe/Berlin
X-LIC-LOCATION:Europe/Berlin
BEGIN:DAYLIGHT
TZOFFSETFROM:+0100
TZOFFSETTO:+0200
TZNAME:CEST
DTSTART:19700329T020000
RRULE:FREQ=YEARLY;BYMONTH=3;BYDAY=-1SU
END:DAYLIGHT
BEGIN:STANDARD
TZOFFSETFROM:+0200
TZOFFSETTO:+0100
TZNAME:CET
DTSTART:19701025T030000
RRULE:FREQ=YEARLY;BYMONTH=10;BYDAY=-1SU
END:STANDARD
END:VTIMEZONE
BEGIN:VEVENT
UID:bd0dc3d9f31e081eb91f9f1c25a37711
SUMMARY:Borsch4Breakfast - Westfälisches Musikfestival Hamm
URL:https://www.concerti.de/termine/borsch4breakfast-895152/
DTSTART;TZID=Europe/Berlin:20260616T193000
DTEND;TZID=Europe/Berlin:20260616T213000
DESCRIPTION:Interpreten: Borsch4Breakfast \nhttps://www.concerti.de/termine/borsch4breakfast-895152/
LOCATION:Sparkasse\, Hamm
END:VEVENT
END:VCALENDAR