BEGIN:VCALENDAR
VERSION:2.0
PRODID:concerti//https://www.concerti.de
CALSCALE:GREGORIAN
BEGIN:VTIMEZONE
TZID:Europe/Berlin
X-LIC-LOCATION:Europe/Berlin
BEGIN:DAYLIGHT
TZOFFSETFROM:+0100
TZOFFSETTO:+0200
TZNAME:CEST
DTSTART:19700329T020000
RRULE:FREQ=YEARLY;BYMONTH=3;BYDAY=-1SU
END:DAYLIGHT
BEGIN:STANDARD
TZOFFSETFROM:+0200
TZOFFSETTO:+0100
TZNAME:CET
DTSTART:19701025T030000
RRULE:FREQ=YEARLY;BYMONTH=10;BYDAY=-1SU
END:STANDARD
END:VTIMEZONE
BEGIN:VEVENT
UID:a88114ac9e74b5f434f87acb96e5b6c3
SUMMARY:Wagners Ring - Westfälisches Musikfestival Hamm
URL:https://www.concerti.de/termine/wagners-ring-895155/
DTSTART;TZID=Europe/Berlin:20260618T193000
DTEND;TZID=Europe/Berlin:20260618T213000
DESCRIPTION:Interpreten: Konstantin Zvyagin (Klavier) \nProgramm: Musik von Wagner \nhttps://www.concerti.de/termine/wagners-ring-895155/
LOCATION:Oberlandesgericht\, Hamm
END:VEVENT
END:VCALENDAR