BEGIN:VCALENDAR
VERSION:2.0
PRODID:concerti//https://www.concerti.de
CALSCALE:GREGORIAN
BEGIN:VTIMEZONE
TZID:Europe/Berlin
X-LIC-LOCATION:Europe/Berlin
BEGIN:DAYLIGHT
TZOFFSETFROM:+0100
TZOFFSETTO:+0200
TZNAME:CEST
DTSTART:19700329T020000
RRULE:FREQ=YEARLY;BYMONTH=3;BYDAY=-1SU
END:DAYLIGHT
BEGIN:STANDARD
TZOFFSETFROM:+0200
TZOFFSETTO:+0100
TZNAME:CET
DTSTART:19701025T030000
RRULE:FREQ=YEARLY;BYMONTH=10;BYDAY=-1SU
END:STANDARD
END:VTIMEZONE
BEGIN:VEVENT
UID:3a53a797bdde1884fe6e58d0254dd446
SUMMARY:Salaputia Brass - Westfälisches Musikfestival Hamm
URL:https://www.concerti.de/termine/salaputia-brass-895158/
DTSTART;TZID=Europe/Berlin:20260621T193000
DTEND;TZID=Europe/Berlin:20260621T213000
DESCRIPTION:Interpreten: Salaputia Brass \nProgramm: Werke von Bernstein\, Morrison u. a. \nhttps://www.concerti.de/termine/salaputia-brass-895158/
LOCATION:Volksbank\, Hamm
END:VEVENT
END:VCALENDAR