BEGIN:VCALENDAR
VERSION:2.0
PRODID:concerti//https://www.concerti.de
CALSCALE:GREGORIAN
BEGIN:VTIMEZONE
TZID:Europe/Berlin
X-LIC-LOCATION:Europe/Berlin
BEGIN:DAYLIGHT
TZOFFSETFROM:+0100
TZOFFSETTO:+0200
TZNAME:CEST
DTSTART:19700329T020000
RRULE:FREQ=YEARLY;BYMONTH=3;BYDAY=-1SU
END:DAYLIGHT
BEGIN:STANDARD
TZOFFSETFROM:+0200
TZOFFSETTO:+0100
TZNAME:CET
DTSTART:19701025T030000
RRULE:FREQ=YEARLY;BYMONTH=10;BYDAY=-1SU
END:STANDARD
END:VTIMEZONE
BEGIN:VEVENT
UID:3437e766138ff40f33b77cc3f529269d
SUMMARY:Reginald Mobley (Countertenor), lautten compagney Berlin, - Westfälisches Musikfestival Hamm
URL:https://www.concerti.de/termine/reginald-mobley-countertenor-lautten-compagney-berlin-895161/
DTSTART;TZID=Europe/Berlin:20260625T193000
DTEND;TZID=Europe/Berlin:20260625T213000
DESCRIPTION:Interpreten: Reginald Mobley (Countertenor)\, lautten compagney Berlin\, \nProgramm: Werke von Ravenscroft\, Child\, Wonder\, Händel u. a. \nhttps://www.concerti.de/termine/reginald-mobley-countertenor-lautten-compagney-berlin-895161/
LOCATION:St. Agnes\, Hamm
END:VEVENT
END:VCALENDAR