BEGIN:VCALENDAR
VERSION:2.0
PRODID:concerti//https://www.concerti.de
CALSCALE:GREGORIAN
BEGIN:VTIMEZONE
TZID:Europe/Berlin
X-LIC-LOCATION:Europe/Berlin
BEGIN:DAYLIGHT
TZOFFSETFROM:+0100
TZOFFSETTO:+0200
TZNAME:CEST
DTSTART:19700329T020000
RRULE:FREQ=YEARLY;BYMONTH=3;BYDAY=-1SU
END:DAYLIGHT
BEGIN:STANDARD
TZOFFSETFROM:+0200
TZOFFSETTO:+0100
TZNAME:CET
DTSTART:19701025T030000
RRULE:FREQ=YEARLY;BYMONTH=10;BYDAY=-1SU
END:STANDARD
END:VTIMEZONE
BEGIN:VEVENT
UID:60bc1d7dd23ad04c70f941994bb2126a
SUMMARY:German Hornsound - Westfälisches Musikfestival Hamm
URL:https://www.concerti.de/termine/german-hornsound-895164/
DTSTART;TZID=Europe/Berlin:20260626T193000
DTEND;TZID=Europe/Berlin:20260626T213000
DESCRIPTION:Interpreten: German Hornsound \nProgramm: Werke von Marcello\, Händel\, Telemann\, J. S. Bach\, Pergolesi u. a. \nhttps://www.concerti.de/termine/german-hornsound-895164/
LOCATION:Schloss Heesen\, Hamm
END:VEVENT
END:VCALENDAR