BEGIN:VCALENDAR
VERSION:2.0
PRODID:concerti//https://www.concerti.de
CALSCALE:GREGORIAN
BEGIN:VTIMEZONE
TZID:Europe/Berlin
X-LIC-LOCATION:Europe/Berlin
BEGIN:DAYLIGHT
TZOFFSETFROM:+0100
TZOFFSETTO:+0200
TZNAME:CEST
DTSTART:19700329T020000
RRULE:FREQ=YEARLY;BYMONTH=3;BYDAY=-1SU
END:DAYLIGHT
BEGIN:STANDARD
TZOFFSETFROM:+0200
TZOFFSETTO:+0100
TZNAME:CET
DTSTART:19701025T030000
RRULE:FREQ=YEARLY;BYMONTH=10;BYDAY=-1SU
END:STANDARD
END:VTIMEZONE
BEGIN:VEVENT
UID:45147c6d41b290283874b49ee2ffdc91
SUMMARY:Freytag Trio - Westfälisches Musikfestival Hamm
URL:https://www.concerti.de/termine/freytag-trio-895168/
DTSTART;TZID=Europe/Berlin:20260628T193000
DTEND;TZID=Europe/Berlin:20260628T213000
DESCRIPTION:Interpreten: Freytag Trio \nProgramm: Haydn: Klaviertrio A-Dur Hob. XV: 18\, Auerbach: Trio Nr. 2 „This Mirror Has Three Faces“\, Dvořák: Klaviertrio Nr. 1 B-Dur op. 21 \nhttps://www.concerti.de/termine/freytag-trio-895168/
LOCATION:St. Antonius von Padua\, Hamm
END:VEVENT
END:VCALENDAR