BEGIN:VCALENDAR
VERSION:2.0
PRODID:concerti//https://www.concerti.de
CALSCALE:GREGORIAN
BEGIN:VTIMEZONE
TZID:Europe/Berlin
X-LIC-LOCATION:Europe/Berlin
BEGIN:DAYLIGHT
TZOFFSETFROM:+0100
TZOFFSETTO:+0200
TZNAME:CEST
DTSTART:19700329T020000
RRULE:FREQ=YEARLY;BYMONTH=3;BYDAY=-1SU
END:DAYLIGHT
BEGIN:STANDARD
TZOFFSETFROM:+0200
TZOFFSETTO:+0100
TZNAME:CET
DTSTART:19701025T030000
RRULE:FREQ=YEARLY;BYMONTH=10;BYDAY=-1SU
END:STANDARD
END:VTIMEZONE
BEGIN:VEVENT
UID:84a4ac513db3d960d7476885d6c65296
SUMMARY:Christoph Prégardien (Tenor), Julian Prégardien (Tenor), Michael Gees (Klavier) - Schumannfest Düsseldorf
URL:https://www.concerti.de/termine/christoph-pregardien-tenor-julian-pregardien-tenor-michael-gees-klavier-tonhalle-duesseldorf-895176/
DTSTART;TZID=Europe/Berlin:20260606T200000
DTEND;TZID=Europe/Berlin:20260606T220000
DESCRIPTION:Interpreten: Christoph Prégardien (Tenor)\, Julian Prégardien (Tenor)\, Michael Gees (Klavier) \nProgramm: R. Schumann: Sämtliche Lieder nach Heinrich Heine\, C. Schumann: Sämtliche Lieder nach Heinrich Heine\, Schubert: Lieder & Duette (Auswahl) \nhttps://www.concerti.de/termine/christoph-pregardien-tenor-julian-pregardien-tenor-michael-gees-klavier-tonhalle-duesseldorf-895176/
LOCATION:Tonhalle Düsseldorf\, Ehrenhof 1\, 40479 Düsseldorf
END:VEVENT
END:VCALENDAR