BEGIN:VCALENDAR
VERSION:2.0
PRODID:concerti//https://www.concerti.de
CALSCALE:GREGORIAN
BEGIN:VTIMEZONE
TZID:Europe/Berlin
X-LIC-LOCATION:Europe/Berlin
BEGIN:DAYLIGHT
TZOFFSETFROM:+0100
TZOFFSETTO:+0200
TZNAME:CEST
DTSTART:19700329T020000
RRULE:FREQ=YEARLY;BYMONTH=3;BYDAY=-1SU
END:DAYLIGHT
BEGIN:STANDARD
TZOFFSETFROM:+0200
TZOFFSETTO:+0100
TZNAME:CET
DTSTART:19701025T030000
RRULE:FREQ=YEARLY;BYMONTH=10;BYDAY=-1SU
END:STANDARD
END:VTIMEZONE
BEGIN:VEVENT
UID:613bf03d2de9092fd309896bffaaa453
SUMMARY:Niek Baar (Violine), Ben Kim (Klavier) - Schumannfest Düsseldorf
URL:https://www.concerti.de/termine/niek-baar-violine-ben-kim-klavier-895182/
DTSTART;TZID=Europe/Berlin:20260608T190000
DTEND;TZID=Europe/Berlin:20260608T210000
DESCRIPTION:Interpreten: Niek Baar (Violine)\, Ben Kim (Klavier) \nProgramm: C. Schumann: Drei Romanzen op. 22\, Franck: Violinsonate A-Dur\, Webern: Vier Stücke op. 7\, R. Schumann: Violinsonate Nr. 2 d-Moll op. 121 \nhttps://www.concerti.de/termine/niek-baar-violine-ben-kim-klavier-895182/
LOCATION:Palais Wittgenstein\, Düsseldorf
END:VEVENT
END:VCALENDAR