BEGIN:VCALENDAR
VERSION:2.0
PRODID:concerti//https://www.concerti.de
CALSCALE:GREGORIAN
BEGIN:VTIMEZONE
TZID:Europe/Berlin
X-LIC-LOCATION:Europe/Berlin
BEGIN:DAYLIGHT
TZOFFSETFROM:+0100
TZOFFSETTO:+0200
TZNAME:CEST
DTSTART:19700329T020000
RRULE:FREQ=YEARLY;BYMONTH=3;BYDAY=-1SU
END:DAYLIGHT
BEGIN:STANDARD
TZOFFSETFROM:+0200
TZOFFSETTO:+0100
TZNAME:CET
DTSTART:19701025T030000
RRULE:FREQ=YEARLY;BYMONTH=10;BYDAY=-1SU
END:STANDARD
END:VTIMEZONE
BEGIN:VEVENT
UID:c4efa60964b43d6ebea7c6c3062b6295
SUMMARY:Kebyart Saxofon-Quartett - Schumannfest Düsseldorf
URL:https://www.concerti.de/termine/kebyart-saxofon-quartett-895185/
DTSTART;TZID=Europe/Berlin:20260609T190000
DTEND;TZID=Europe/Berlin:20260609T210000
DESCRIPTION:Interpreten: Kebyart Saxofon-Quartett \nProgramm: J. S. Bach: Passacaglia c-Moll BWV 582\, Mendelssohn: Stücke Nr. 1 & 2 op. 81\, C. Schumann: Quatre pièces fugitives op. 15\, Widmann: Sieben Capricci\, López: Fantasy on Themes by Gershwin \nhttps://www.concerti.de/termine/kebyart-saxofon-quartett-895185/
LOCATION:Palais Wittgenstein\, Düsseldorf
END:VEVENT
END:VCALENDAR