BEGIN:VCALENDAR
VERSION:2.0
PRODID:concerti//https://www.concerti.de
CALSCALE:GREGORIAN
BEGIN:VTIMEZONE
TZID:Europe/Berlin
X-LIC-LOCATION:Europe/Berlin
BEGIN:DAYLIGHT
TZOFFSETFROM:+0100
TZOFFSETTO:+0200
TZNAME:CEST
DTSTART:19700329T020000
RRULE:FREQ=YEARLY;BYMONTH=3;BYDAY=-1SU
END:DAYLIGHT
BEGIN:STANDARD
TZOFFSETFROM:+0200
TZOFFSETTO:+0100
TZNAME:CET
DTSTART:19701025T030000
RRULE:FREQ=YEARLY;BYMONTH=10;BYDAY=-1SU
END:STANDARD
END:VTIMEZONE
BEGIN:VEVENT
UID:739326baabfff5a1aa2eb4d567ccaf8c
SUMMARY:Sangyoon Lee (Viola), Ani Ter-Martirosyan (Klavier), Jasmin-Neven Varul (Spiel), Markus J. Bachmann (Spiel), Sabine Brenner- Wilczek (Moderation) - Schumannfest Düsseldorf
URL:https://www.concerti.de/termine/sangyoon-lee-viola-ani-ter-martirosyan-klavier-jasmin-neven-varul-spiel-markus-j-bachmann-spiel-sabine-brenner-wilczek-moderation-895188/
DTSTART;TZID=Europe/Berlin:20260611T190000
DTEND;TZID=Europe/Berlin:20260611T210000
DESCRIPTION:Interpreten: Sangyoon Lee (Viola)\, Ani Ter-Martirosyan (Klavier)\, Jasmin-Neven Varul (Spiel)\, Markus J. Bachmann (Spiel)\, Sabine Brenner- Wilczek (Moderation) \nProgramm: C. Schumann: Drei Romanzen op. 22\, R. Schumann: Märchenbilder op. 113 & Fantasiestücke op. 73\, Brahms: Violasonate op. 120/2 \nhttps://www.concerti.de/termine/sangyoon-lee-viola-ani-ter-martirosyan-klavier-jasmin-neven-varul-spiel-markus-j-bachmann-spiel-sabine-brenner-wilczek-moderation-895188/
LOCATION:Palais Wittgenstein\, Düsseldorf
END:VEVENT
END:VCALENDAR