BEGIN:VCALENDAR
VERSION:2.0
PRODID:concerti//https://www.concerti.de
CALSCALE:GREGORIAN
BEGIN:VTIMEZONE
TZID:Europe/Berlin
X-LIC-LOCATION:Europe/Berlin
BEGIN:DAYLIGHT
TZOFFSETFROM:+0100
TZOFFSETTO:+0200
TZNAME:CEST
DTSTART:19700329T020000
RRULE:FREQ=YEARLY;BYMONTH=3;BYDAY=-1SU
END:DAYLIGHT
BEGIN:STANDARD
TZOFFSETFROM:+0200
TZOFFSETTO:+0100
TZNAME:CET
DTSTART:19701025T030000
RRULE:FREQ=YEARLY;BYMONTH=10;BYDAY=-1SU
END:STANDARD
END:VTIMEZONE
BEGIN:VEVENT
UID:04a722eedd299b0589f00ee99b4740a4
SUMMARY:Mitglieder der Düsseldorfer Symphoniker - Schumannfest Düsseldorf
URL:https://www.concerti.de/termine/mitglieder-der-duesseldorfer-symphoniker-895191/
DTSTART;TZID=Europe/Berlin:20260613T110000
DTEND;TZID=Europe/Berlin:20260613T130000
DESCRIPTION:Interpreten: Mitglieder der Düsseldorfer Symphoniker \nProgramm: Werke von Gade\, Schumann\, Brod\, Mozart\, R. Strauss\, Dvořák u. a. \nhttps://www.concerti.de/termine/mitglieder-der-duesseldorfer-symphoniker-895191/
LOCATION:Palais Wittgenstein\, Düsseldorf
END:VEVENT
END:VCALENDAR